BEGIN:VCALENDAR
VERSION:2.0
PRODID:-//https://www.ischiaeventi.it///NONSGML kigkonsult.se iCalcreator 2.10.15//
METHOD:PUBLISH
BEGIN:VEVENT
UID:20260420T102108UTC-3315VkuIPW@https://www.ischiaeventi.it/
DTSTAMP:20260420T102108Z
DESCRIPTION:Piazza Marina CASAMICCIOLA aperitivo in piazza con Dj Sangio11.
 00 . 13:0016:00 - 19:30 https://www.ischiaeventi.it/eventi-ad-ischia/tradi
 zioni/gastronomia/evento/249366-natale-a-casamicciola-aperitvo-in-piazza
DTSTART:20251221T100000Z
DTEND:20251221T183000Z
LOCATION:Piazza Marina Casamicciola Terme (Corso Luigi Manzi\, 1\, 80074 Ca
 samicciola Terme NA\, Italy)
SUMMARY:Natale a Casamicciola: aperitvo in piazza
URL:https://www.ischiaeventi.it/eventi-ad-ischia/tradizioni/gastronomia/eve
 nto/249366-natale-a-casamicciola-aperitvo-in-piazza
END:VEVENT
END:VCALENDAR
