BEGIN:VCALENDAR
VERSION:2.0
PRODID:-//https://www.ischiaeventi.it///NONSGML kigkonsult.se iCalcreator 2.10.15//
METHOD:PUBLISH
BEGIN:VEVENT
UID:20260420T093625UTC-6601P86ieG@https://www.ischiaeventi.it/
DTSTAMP:20260420T093625Z
DESCRIPTION:James Senese in concerto https://www.ischiaeventi.it/eventi-ad-
 ischia/tradizioni/gastronomia/evento/30266-james-senese-in-concerto
DTSTART:20240613T193000Z
DTEND:20240613T213000Z
LOCATION: Piazzetta Sant'Antonio  (Via Cumana\, 68\, 80074 Casamicciola Ter
 me NA\, Italia)
SUMMARY:James Senese in concerto
URL:https://www.ischiaeventi.it/eventi-ad-ischia/tradizioni/gastronomia/eve
 nto/30266-james-senese-in-concerto
END:VEVENT
END:VCALENDAR
