BEGIN:VCALENDAR
VERSION:2.0
PRODID:-//https://www.ischiaeventi.it///NONSGML kigkonsult.se iCalcreator 2.10.15//
METHOD:PUBLISH
BEGIN:VEVENT
UID:20260420T135041UTC-3324cdvuVM@https://www.ischiaeventi.it/
DTSTAMP:20260420T135041Z
DESCRIPTION:Aspettando Babbo Natale con il Grinch a Casamicciola\, giochi a
 nimazioni e divertimento. https://www.ischiaeventi.it/eventi-ad-ischia/tra
 dizioni/gastronomia/evento/38354-aspettando-babbo-natale-con-il-grinch
DTSTART:20241207T150000Z
DTEND:20241207T170000Z
LOCATION:Piazza Marina Casamicciola Terme (Corso Luigi Manzi\, 1\, 80074 Ca
 samicciola Terme NA\, Italy)
SUMMARY:Aspettando Babbo Natale con il Grinch
URL:https://www.ischiaeventi.it/eventi-ad-ischia/tradizioni/gastronomia/eve
 nto/38354-aspettando-babbo-natale-con-il-grinch
END:VEVENT
END:VCALENDAR
