BEGIN:VCALENDAR
VERSION:2.0
PRODID:-//https://www.ischiaeventi.it///NONSGML kigkonsult.se iCalcreator 2.10.15//
METHOD:PUBLISH
BEGIN:VEVENT
UID:20260420T135250UTC-4030RoLPat@https://www.ischiaeventi.it/
DTSTAMP:20260420T135250Z
DESCRIPTION:LABORATORIO DI LETTURA CONI NONNI CON MERENDA Villa Joseph (Don
  Orione) 15:30 https://www.ischiaeventi.it/eventi-ad-ischia/tradizioni/gas
 tronomia/evento/38439-natale-a-casamicciola-laboratorio-di-lettura-con-i-n
 onni
DTSTART:20241211T143000Z
DTEND:20241211T173000Z
LOCATION:Villa Joseph (80074 Casamicciola Terme NA\, Italia)
SUMMARY:Natale a Casamicciola: laboratorio di lettura con i nonni
URL:https://www.ischiaeventi.it/eventi-ad-ischia/tradizioni/gastronomia/eve
 nto/38439-natale-a-casamicciola-laboratorio-di-lettura-con-i-nonni
END:VEVENT
END:VCALENDAR
