BEGIN:VCALENDAR
VERSION:2.0
PRODID:-//https://www.ischiaeventi.it///NONSGML kigkonsult.se iCalcreator 2.10.15//
METHOD:PUBLISH
BEGIN:VEVENT
UID:20260420T204514UTC-3030SMuavE@https://www.ischiaeventi.it/
DTSTAMP:20260420T204514Z
DESCRIPTION:Commedia in 3 atti di Eduardo De Filippo https://www.ischiaeven
 ti.it/eventi-dicembre/evento/40943-uomo-e-galantuomo
DTSTART:20250208T200000Z
DTEND:20250208T225600Z
LOCATION:Cinema Excelsior (Via Francesco Sogliuzzo\, 18\, 80077 Ischia NA\,
  Italia)
SUMMARY:Uomo e galantuomo
URL:https://www.ischiaeventi.it/eventi-dicembre/evento/40943-uomo-e-galantu
 omo
END:VEVENT
END:VCALENDAR
