BEGIN:VCALENDAR
VERSION:2.0
PRODID:-//https://www.ischiaeventi.it///NONSGML kigkonsult.se iCalcreator 2.10.15//
METHOD:PUBLISH
BEGIN:VEVENT
UID:20260420T163442UTC-1284v75Luz@https://www.ischiaeventi.it/
DTSTAMP:20260420T163442Z
DESCRIPTION:Un apericena per stare insieme con buon cibo e buona compagnia.
 Lunedì 9 febbraiodalle 17:30 alle 20:00Presso la sala convegni dell'IPS V.
  TELESE https://www.ischiaeventi.it/eventi-passati/evento/249534-apericena
 -telese
DTSTART:20260209T163000Z
DTEND:20260209T190000Z
LOCATION:IPS 'Vincenzo Telese' (Via Fondo Bosso\, 3\, 80077 Ischia NA\, Ita
 lia)
SUMMARY:Apericena Telese
URL:https://www.ischiaeventi.it/eventi-passati/evento/249534-apericena-tele
 se
END:VEVENT
END:VCALENDAR
