BEGIN:VCALENDAR
VERSION:2.0
PRODID:-//https://www.ischiaeventi.it///NONSGML kigkonsult.se iCalcreator 2.10.15//
METHOD:PUBLISH
BEGIN:VEVENT
UID:20260420T131728UTC-7262XUw60S@https://www.ischiaeventi.it/
DTSTAMP:20260420T131728Z
DESCRIPTION:30 ANNI INSIEME di&nbsp\;LEGA NAVALE ITALIANA SEZIONE ISOLA D' 
 ISCHIA\nVi aspettiamo per una serata indimenticabile\, tra ottima musica e
  buon cibo!27 FEBRAIO 2026 ORE 17:30Banchina Olimpica 4\, ISCHIAx info: 37
 7 0991303 https://www.ischiaeventi.it/eventi-passati/evento/249573-30-anni
 -insieme
DTSTART:20260227T163000Z
DTEND:20260227T180000Z
LOCATION:Banchina Olimpica - Porto di Ischia (Via Iasolino\, 30\, 80077 Isc
 hia NA\, Italia)
SUMMARY:30 ANNI INSIEME
URL:https://www.ischiaeventi.it/eventi-passati/evento/249573-30-anni-insiem
 e
END:VEVENT
END:VCALENDAR
