BEGIN:VCALENDAR
VERSION:2.0
PRODID:-//https://www.ischiaeventi.it///NONSGML kigkonsult.se iCalcreator 2.10.15//
METHOD:PUBLISH
BEGIN:VEVENT
UID:20260420T155855UTC-4574ApnTd2@https://www.ischiaeventi.it/
DTSTAMP:20260420T155855Z
DESCRIPTION:La lega navale isola d' Ischia in occasione della festa dei 30 
 anni della sezione è lieta di invitarvi alla mostra fotografica di Frances
 co Rastrelli e Roberta Roccativenerdi 27 febbraio alle 17:30 presso la sed
 e della lega navale banchina olimpica 4 - ischia - tel 081.982048 il verni
 ssage termina alle 20:30 https://www.ischiaeventi.it/eventi-passati/evento
 /249596-la-lega-navale-isola-dischia-mare-forza-venti
DTSTART:20260227T163000Z
DTEND:20260227T193000Z
LOCATION:Banchina Olimpica - Porto di Ischia (Via Iasolino\, 30\, 80077 Isc
 hia NA\, Italia)
SUMMARY:LA LEGA NAVALE ISOLA D'ISCHIA: Mare forza venti!
URL:https://www.ischiaeventi.it/eventi-passati/evento/249596-la-lega-navale
 -isola-dischia-mare-forza-venti
END:VEVENT
END:VCALENDAR
